BEGIN:VCALENDAR
VERSION:2.0
PRODID:-//Restaurant Heerwiese - ECPv6.15.14//NONSGML v1.0//EN
CALSCALE:GREGORIAN
METHOD:PUBLISH
X-WR-CALNAME:Restaurant Heerwiese
X-ORIGINAL-URL:https://heerwiese.de
X-WR-CALDESC:Veranstaltungen für Restaurant Heerwiese
REFRESH-INTERVAL;VALUE=DURATION:PT1H
X-Robots-Tag:noindex
X-PUBLISHED-TTL:PT1H
BEGIN:VTIMEZONE
TZID:Europe/Berlin
BEGIN:DAYLIGHT
TZOFFSETFROM:+0100
TZOFFSETTO:+0200
TZNAME:CEST
DTSTART:20250330T010000
END:DAYLIGHT
BEGIN:STANDARD
TZOFFSETFROM:+0200
TZOFFSETTO:+0100
TZNAME:CET
DTSTART:20251026T010000
END:STANDARD
BEGIN:DAYLIGHT
TZOFFSETFROM:+0100
TZOFFSETTO:+0200
TZNAME:CEST
DTSTART:20260329T010000
END:DAYLIGHT
BEGIN:STANDARD
TZOFFSETFROM:+0200
TZOFFSETTO:+0100
TZNAME:CET
DTSTART:20261025T010000
END:STANDARD
BEGIN:DAYLIGHT
TZOFFSETFROM:+0100
TZOFFSETTO:+0200
TZNAME:CEST
DTSTART:20270328T010000
END:DAYLIGHT
BEGIN:STANDARD
TZOFFSETFROM:+0200
TZOFFSETTO:+0100
TZNAME:CET
DTSTART:20271031T010000
END:STANDARD
END:VTIMEZONE
BEGIN:VEVENT
DTSTART;TZID=Europe/Berlin:20260522T180000
DTEND;TZID=Europe/Berlin:20260522T220000
DTSTAMP:20260420T225111
CREATED:20260122T150027Z
LAST-MODIFIED:20260131T222847Z
UID:1433-1779472800-1779487200@heerwiese.de
SUMMARY:Spargelbuffet
DESCRIPTION:Spargel in seiner schönsten Form: \nUnser großes Spargelbuffet begeistert mit feiner Raffinesse und vielfältigen Genussmomenten rund um das königliche Gemüse.
URL:https://heerwiese.de/event/spargelbuffet/
LOCATION:Restaurant Heerwiese\, Heedfelder Straße 136\, Lüdenscheid\, NRW\, 58511\, Germany
CATEGORIES:Essen & Trinken
ORGANIZER;CN="Restaurant Heerwiese":MAILTO:info@heerwiese.de
END:VEVENT
BEGIN:VEVENT
DTSTART;TZID=Europe/Berlin:20260612T180000
DTEND;TZID=Europe/Berlin:20260612T220000
DTSTAMP:20260420T225111
CREATED:20260122T150117Z
LAST-MODIFIED:20260131T222900Z
UID:1435-1781287200-1781301600@heerwiese.de
SUMMARY:Spargelbuffet
DESCRIPTION:Spargel in seiner schönsten Form: \nUnser großes Spargelbuffet begeistert mit feiner Raffinesse und vielfältigen Genussmomenten rund um das königliche Gemüse.
URL:https://heerwiese.de/event/spargelbuffet-2/
LOCATION:Restaurant Heerwiese\, Heedfelder Straße 136\, Lüdenscheid\, NRW\, 58511\, Germany
CATEGORIES:Essen & Trinken
ORGANIZER;CN="Restaurant Heerwiese":MAILTO:info@heerwiese.de
END:VEVENT
BEGIN:VEVENT
DTSTART;TZID=Europe/Berlin:20260724T180000
DTEND;TZID=Europe/Berlin:20260726T220000
DTSTAMP:20260420T225111
CREATED:20260122T150909Z
LAST-MODIFIED:20260125T155831Z
UID:1437-1784916000-1785103200@heerwiese.de
SUMMARY:Heerwiese meets Sylt
DESCRIPTION:Ein kulinarisches Highlight für alle Sinne. \nVon herzhaften Klassikern über feinste Meeresfrüchte und saftigen Fleischgerichten bis hin zu verführerischen Desserts. \nFreuen Sie sich auf das Beste aus dem Norden.
URL:https://heerwiese.de/event/heerwiese-meets-sylt/
LOCATION:Restaurant Heerwiese\, Heedfelder Straße 136\, Lüdenscheid\, NRW\, 58511\, Germany
CATEGORIES:Essen & Trinken
ORGANIZER;CN="Restaurant Heerwiese":MAILTO:info@heerwiese.de
END:VEVENT
END:VCALENDAR